BEGIN:VCALENDAR
VERSION:2.0
PRODID:-//wp-events-plugin.com//7.2.3.1//EN
TZID:America/New_York
X-WR-TIMEZONE:America/New_York
BEGIN:VEVENT
UID:1480@pleasantpointeva.com
DTSTART;TZID=America/New_York:20300214T000000
DTEND;TZID=America/New_York:20300214T000000
DTSTAMP:20260318T173608Z
URL:https://pleasantpointeva.com/events/valentines-day-2026-02-14-2027-02-
 14-2028-02-14-2029-02-14-2030-02-14/
SUMMARY:Valentine's Day
DESCRIPTION:
ATTACH;FMTTYPE=image/jpeg:https://pleasantpointeva.com/wp-content/uploads/
 2026/03/valentines-day.png
CATEGORIES:Holidays,Valentines Day
END:VEVENT
BEGIN:VTIMEZONE
TZID:America/New_York
X-LIC-LOCATION:America/New_York
BEGIN:STANDARD
DTSTART:20291104T010000
TZOFFSETFROM:-0400
TZOFFSETTO:-0500
TZNAME:EST
END:STANDARD
END:VTIMEZONE
END:VCALENDAR