BEGIN:VCALENDAR
VERSION:2.0
PRODID:-//wp-events-plugin.com//7.2.3.1//EN
TZID:America/New_York
X-WR-TIMEZONE:America/New_York
BEGIN:VEVENT
UID:1402@pleasantpointeva.com
DTSTART;TZID=America/New_York:20361127T000000
DTEND;TZID=America/New_York:20361127T000000
DTSTAMP:20260317T194158Z
URL:https://pleasantpointeva.com/events/thanksgiving-2-2026-11-26-2027-11-
 25-2028-11-23-2029-11-22-2030-11-28-2031-11-27-2032-11-25-2033-11-24-2034-
 11-23-2035-11-22-2036-11-27/
SUMMARY:Thanksgiving
DESCRIPTION:
ATTACH;FMTTYPE=image/jpeg:https://pleasantpointeva.com/wp-content/uploads/
 2026/03/thanksgiving.png
CATEGORIES:Holidays,Thanksgiving
END:VEVENT
BEGIN:VTIMEZONE
TZID:America/New_York
X-LIC-LOCATION:America/New_York
BEGIN:STANDARD
DTSTART:20361102T010000
TZOFFSETFROM:-0400
TZOFFSETTO:-0500
TZNAME:EST
END:STANDARD
END:VTIMEZONE
END:VCALENDAR