BEGIN:VCALENDAR
VERSION:2.0
PRODID:-//wp-events-plugin.com//7.2.3.1//EN
TZID:America/New_York
X-WR-TIMEZONE:America/New_York
BEGIN:VEVENT
UID:1061@pleasantpointeva.com
DTSTART;TZID=America/New_York:20310526T083000
DTEND;TZID=America/New_York:20310526T143000
DTSTAMP:20260128T142040Z
URL:https://pleasantpointeva.com/events/st-stephens-strawberry-festival-20
 31-05-26/
SUMMARY:St. Stephen's Strawberry Festival
DESCRIPTION:We are happy to announce that St. Stephen’s 2026 Strawberry F
 estival will be held on the church grounds the Saturday of Memorial Day we
 ekend\, May 23\, rain or shine.\n\nThis popular event has been in existenc
 e for more than 140 years and continues to be a much anticipated tradition
  on the beautiful Northern Neck of Virginia. For the past number of years\
 , this event has drawn more than 5\,000 people!\n\nThe event features more
  than 100 vendors exhibiting a wide range of of original arts and crafts i
 tems. There will be food\, a large plant sale and bake sale\, live music\,
  St. Stephen’s Strawberry Boutique\, and -- of course -- the ever-popula
 r homemade strawberry shortcakes and fresh local strawberries for sale by 
 the quart.
ATTACH;FMTTYPE=image/jpeg:https://pleasantpointeva.com/wp-content/uploads/
 2026/01/St.-Stephens-Strawberry-Festival.webp
CATEGORIES:St. Stephen's Strawberry Festival
LOCATION:St. Stephen's Heathsville\, 6807 Northumberland Highway\, Heathsvi
 lle\, Virginia\, 22473\, United States
X-APPLE-STRUCTURED-LOCATION;VALUE=URI;X-ADDRESS=6807 Northumberland Highway
 \, Heathsville\, Virginia\, 22473\, United States;X-APPLE-RADIUS=100;X-TIT
 LE=St. Stephen's Heathsville:geo:0,0
END:VEVENT
BEGIN:VTIMEZONE
TZID:America/New_York
X-LIC-LOCATION:America/New_York
BEGIN:DAYLIGHT
DTSTART:20310309T030000
TZOFFSETFROM:-0500
TZOFFSETTO:-0400
TZNAME:EDT
END:DAYLIGHT
END:VTIMEZONE
END:VCALENDAR