BEGIN:VCALENDAR
VERSION:2.0
PRODID:-//wp-events-plugin.com//7.2.3.1//EN
TZID:America/New_York
X-WR-TIMEZONE:America/New_York
BEGIN:VEVENT
UID:1070@pleasantpointeva.com
DTSTART;TZID=America/New_York:20291205T123000
DTEND;TZID=America/New_York:20291205T153000
DTSTAMP:20260128T142055Z
URL:https://pleasantpointeva.com/events/st-stephens-oysters-oldies-2029-12
 -05/
SUMMARY:St. Stephen's Oysters & Oldies
DESCRIPTION:NORTHUMBERLAND—Tickets are on sale for St. Stephen’s 18th a
 nnual Oysters &amp\; Oldies Christmas oyster roast from 12:30-3:30 p.m Dec
 ember 5 at Roanoke Farm\, 6108 Northumberland Highway\, Heathsville.\n\nOy
 sters &amp\; Oldies is St. Stephen’s second largest fundraiser after the
  Strawberry Festival\, reported organizer Bill Kirby. Proceeds are donated
  to local charitable and community organizations.\n\nMore than $180\,000 h
 as been raised since the event’s inception in 2007\, he said. Last year
 ’s donations included the Healthy Harvest Food Bank\, Northern Neck – 
 Middlesex Free Health Clinic\, Interfaith\, Northern Neck Hospice Support 
 Services\, The Link\, The Haven\, Callao Volunteer Fire Department\, Calla
 o Rescue Squad\, Mid-County Rescue Squad\, Smith Point Sea Rescue\, Northu
 mberland Chapter of American Red Cross\, Northumberland Public Library\, N
 orthumberland Family YMCA and Habitat for Humanity.\n\nOysters &amp\; Oldi
 es will feature local wild-caught oysters supplied by Purcell Seafood. The
  “all-you-can-eat menu” will offer roasted or freshly shucked oysters\
 , St. Stephen’s oyster roast chili\, hot dogs\, desserts\, hot and cold 
 drinks. Wine and a selection of Virginia craft beers will also be availabl
 e.\n\n“The event has really grown over the years and become a tradition 
 for many folks in the region who return year after year. It involves every
 one in the congregation to help pull off such a large event\,” said Kirb
 y. “It’s hard work\, but it’s also a great party\; and it feels good
  to know that the money raised will be used to help do good things in the 
 community.”\n\nHistoric Roanoke Farm is recognized as a Virginia Century
  Farm—one that has operated for at least 100 consecutive years. Owned by
  A. Mason Brent\, the farm has been in the Brent family for more than 175 
 years.\n\nIn addition to the oyster roast\, music lovers of all ages will 
 be “Rockin’ Around the Christmas Tree” to original classic oldies an
 d Christmas “chestnuts” from the 40s through the 90s. A 50/50 cash raf
 fle also will be held.
ATTACH;FMTTYPE=image/jpeg:https://pleasantpointeva.com/wp-content/uploads/
 2026/01/oystersoldies.jpg
CATEGORIES:Oysters &amp; Oldies
LOCATION:St. Stephen's Oysters & Oldies\, 6108 Northumberland Highway\, Hea
 thsville\, Virginia\, 22473\, United States
X-APPLE-STRUCTURED-LOCATION;VALUE=URI;X-ADDRESS=6108 Northumberland Highway
 \, Heathsville\, Virginia\, 22473\, United States;X-APPLE-RADIUS=100;X-TIT
 LE=St. Stephen's Oysters & Oldies:geo:0,0
END:VEVENT
BEGIN:VTIMEZONE
TZID:America/New_York
X-LIC-LOCATION:America/New_York
BEGIN:STANDARD
DTSTART:20291104T010000
TZOFFSETFROM:-0400
TZOFFSETTO:-0500
TZNAME:EST
END:STANDARD
END:VTIMEZONE
END:VCALENDAR