BEGIN:VCALENDAR
VERSION:2.0
PRODID:-//wp-events-plugin.com//7.2.3.1//EN
TZID:America/New_York
X-WR-TIMEZONE:America/New_York
BEGIN:VEVENT
UID:1448@pleasantpointeva.com
DTSTART;TZID=America/New_York:20340317T000000
DTEND;TZID=America/New_York:20340317T000000
DTSTAMP:20260317T195758Z
URL:https://pleasantpointeva.com/events/st-patricks-day-2026-03-17-2027-03
 -17-2028-03-17-2029-03-17-2030-03-17-2031-03-17-2032-03-17-2033-03-17-2034
 -03-17/
SUMMARY:St Patrick's Day
DESCRIPTION:
ATTACH;FMTTYPE=image/jpeg:https://pleasantpointeva.com/wp-content/uploads/
 2026/03/st-patricks.png
CATEGORIES:Holidays,St Patrick's Day
END:VEVENT
BEGIN:VTIMEZONE
TZID:America/New_York
X-LIC-LOCATION:America/New_York
BEGIN:DAYLIGHT
DTSTART:20340312T030000
TZOFFSETFROM:-0500
TZOFFSETTO:-0400
TZNAME:EDT
END:DAYLIGHT
END:VTIMEZONE
END:VCALENDAR