BEGIN:VCALENDAR
VERSION:2.0
PRODID:-//wp-events-plugin.com//7.2.3.1//EN
TZID:America/New_York
X-WR-TIMEZONE:America/New_York
BEGIN:VEVENT
UID:1089@pleasantpointeva.com
DTSTART;TZID=America/New_York:20260411T150000
DTEND;TZID=America/New_York:20260411T163000
DTSTAMP:20260314T121238Z
URL:https://pleasantpointeva.com/events/oyster-101/
SUMMARY:Oyster 101
DESCRIPTION:Basic Oyster Gardening.  Richard Siciliano\, Master Oyster Gard
 ener
ATTACH;FMTTYPE=image/jpeg:https://pleasantpointeva.com/wp-content/uploads/
 2026/03/richard-siciliano.avif
CATEGORIES:Classes,Oyster 101
LOCATION:https://www.oystergardener.org/oyster-gardening-101
END:VEVENT
BEGIN:VTIMEZONE
TZID:America/New_York
X-LIC-LOCATION:America/New_York
BEGIN:DAYLIGHT
DTSTART:20260308T030000
TZOFFSETFROM:-0500
TZOFFSETTO:-0400
TZNAME:EDT
END:DAYLIGHT
END:VTIMEZONE
END:VCALENDAR