BEGIN:VCALENDAR
VERSION:2.0
PRODID:-//wp-events-plugin.com//7.2.3.1//EN
TZID:America/New_York
X-WR-TIMEZONE:America/New_York
BEGIN:VEVENT
UID:1534@pleasantpointeva.com
DTSTART;TZID=America/New_York:20480101T000000
DTEND;TZID=America/New_York:20480101T000000
DTSTAMP:20260318T180942Z
URL:https://pleasantpointeva.com/events/new-year-2048-01-01/
SUMMARY:New Year
DESCRIPTION:
ATTACH;FMTTYPE=image/jpeg:https://pleasantpointeva.com/wp-content/uploads/
 2026/03/happy-new-year.png
CATEGORIES:Holidays,New Year
END:VEVENT
BEGIN:VTIMEZONE
TZID:America/New_York
X-LIC-LOCATION:America/New_York
BEGIN:STANDARD
DTSTART:20471103T010000
TZOFFSETFROM:-0400
TZOFFSETTO:-0500
TZNAME:EST
END:STANDARD
END:VTIMEZONE
END:VCALENDAR