BEGIN:VCALENDAR
VERSION:2.0
PRODID:-//wp-events-plugin.com//7.2.3.1//EN
TZID:America/New_York
X-WR-TIMEZONE:America/New_York
BEGIN:VEVENT
UID:1258@pleasantpointeva.com
DTSTART;TZID=America/New_York:20560514T000000
DTEND;TZID=America/New_York:20560514T000000
DTSTAMP:20260315T175339Z
URL:https://pleasantpointeva.com/events/mothers-day-2026-05-10-2027-05-09-
 2028-05-14-2029-05-13-2030-05-12-2031-05-11-2032-05-09-2033-05-08-2034-05-
 14-2035-05-13-2036-05-11-2037-05-10-2038-05-09-2039-05-08-2040-05-13-2041-
 05-1-09-2056-05-14/
SUMMARY:Mother's Day
DESCRIPTION:Celebrate that special "MOM"
ATTACH;FMTTYPE=image/jpeg:https://pleasantpointeva.com/wp-content/uploads/
 2026/03/Mothers-Day.jpg
CATEGORIES:Holidays,Mother's Day
END:VEVENT
BEGIN:VTIMEZONE
TZID:America/New_York
X-LIC-LOCATION:America/New_York
BEGIN:DAYLIGHT
DTSTART:20560312T030000
TZOFFSETFROM:-0500
TZOFFSETTO:-0400
TZNAME:EDT
END:DAYLIGHT
END:VTIMEZONE
END:VCALENDAR