BEGIN:VCALENDAR
VERSION:2.0
PRODID:-//wp-events-plugin.com//7.2.3.1//EN
TZID:America/New_York
X-WR-TIMEZONE:America/New_York
BEGIN:VEVENT
UID:1142@pleasantpointeva.com
DTSTART;TZID=America/New_York:20460903T000000
DTEND;TZID=America/New_York:20460903T123000
DTSTAMP:20260315T155919Z
URL:https://pleasantpointeva.com/events/labor-day-2046-09-03/
SUMMARY:Labor Day
DESCRIPTION:
ATTACH;FMTTYPE=image/jpeg:https://pleasantpointeva.com/wp-content/uploads/
 2026/03/LABOR-DAY.jpg
CATEGORIES:Holidays,Labor Day
LOCATION:Pleasant Pointe\, Osprey Lane\, Heathsville\, Virginia\, 22473\, U
 nited States
X-APPLE-STRUCTURED-LOCATION;VALUE=URI;X-ADDRESS=Osprey Lane\, Heathsville\,
  Virginia\, 22473\, United States;X-APPLE-RADIUS=100;X-TITLE=Pleasant Poin
 te:geo:0,0
END:VEVENT
BEGIN:VTIMEZONE
TZID:America/New_York
X-LIC-LOCATION:America/New_York
BEGIN:DAYLIGHT
DTSTART:20460311T030000
TZOFFSETFROM:-0500
TZOFFSETTO:-0400
TZNAME:EDT
END:DAYLIGHT
END:VTIMEZONE
END:VCALENDAR