BEGIN:VCALENDAR
VERSION:2.0
PRODID:-//wp-events-plugin.com//7.2.3.1//EN
TZID:America/New_York
X-WR-TIMEZONE:America/New_York
BEGIN:VEVENT
UID:1327@pleasantpointeva.com
DTSTART;TZID=America/New_York:20530619T000000
DTEND;TZID=America/New_York:20530619T000000
DTSTAMP:20260316T174233Z
URL:https://pleasantpointeva.com/events/juneteenth-2026-06-19-2027-06-18-2
 028-06-19-2029-06-19-2030-06-19-2031-06-19-2032-06-19-2033-06-19-2034-06-1
 9-2035-06-19-2036-06-19-2037-06-19-2038-06-19-2039-06-19-2040-06-19-2041-0
 6-19-19-2053-06-19/
SUMMARY:Juneteenth
DESCRIPTION:
ATTACH;FMTTYPE=image/jpeg:https://pleasantpointeva.com/wp-content/uploads/
 2026/03/juneteenth.jpg
CATEGORIES:Holidays,Juneteenth
END:VEVENT
BEGIN:VTIMEZONE
TZID:America/New_York
X-LIC-LOCATION:America/New_York
BEGIN:DAYLIGHT
DTSTART:20530309T030000
TZOFFSETFROM:-0500
TZOFFSETTO:-0400
TZNAME:EDT
END:DAYLIGHT
END:VTIMEZONE
END:VCALENDAR