BEGIN:VCALENDAR
VERSION:2.0
PRODID:-//wp-events-plugin.com//7.2.3.1//EN
TZID:America/New_York
X-WR-TIMEZONE:America/New_York
BEGIN:VEVENT
UID:1014@pleasantpointeva.com
DTSTART;TZID=America/New_York:20300518T090000
DTEND;TZID=America/New_York:20300518T130000
DTSTAMP:20260128T142007Z
URL:https://pleasantpointeva.com/events/heathsville-farmers-market-2030-05
 -18/
SUMMARY:Heathsville Farmers Market
DESCRIPTION:Heathsville Farmers' Market is the 3rd Saturday of the month st
 arting in April and going through October. The time is 9 am to 1 pm. We ha
 ve lots of vendors: fresh produce\, plants\, nursery items\, furniture\, b
 aked goods\, local meat and cheese\, and locally-made handcrafts. Our arti
 san guilds are open and operating as well\, including the Blacksmith Shop\
 , Woodworkers\, Spinners &amp\; Weavers\, and Quilters. The market is loca
 ted on the grounds of Historic Rice's Hotel / Hughlett's Tavern\, which da
 tes back to the late 1700's. Inside the Tavern is our "Heritage Arts Cente
 r" Gift Shop\, which features working artists studios\, a gallery and loca
 lly-made artisan wares. Our Artisan Cafe' is open for homemade soup and fr
 esh-baked bread\, provided by our new Culinary Arts Guild. For a quick bit
 e\, visit our outside food concession. Every Heathsville Farmers Market ha
 s a theme. At our season-opening market\, shoppers will also enjoy a quilt
  show and sale\, an earth day celebration\, music\, 5K Road race\, and the
  Northern Neck Wine Fest.
ATTACH;FMTTYPE=image/jpeg:https://pleasantpointeva.com/wp-content/uploads/
 2026/01/heathsville-farmers-mkt.jpg
CATEGORIES:Heathsville Farmers Market
LOCATION:Heathsville Farmers Market\, 73 Monument Place\, Heathsville\, Vir
 ginia\, 22473\, United States
X-APPLE-STRUCTURED-LOCATION;VALUE=URI;X-ADDRESS=73 Monument Place\, Heathsv
 ille\, Virginia\, 22473\, United States;X-APPLE-RADIUS=100;X-TITLE=Heathsv
 ille Farmers Market:geo:0,0
END:VEVENT
BEGIN:VTIMEZONE
TZID:America/New_York
X-LIC-LOCATION:America/New_York
BEGIN:DAYLIGHT
DTSTART:20300310T030000
TZOFFSETFROM:-0500
TZOFFSETTO:-0400
TZNAME:EDT
END:DAYLIGHT
END:VTIMEZONE
END:VCALENDAR