BEGIN:VCALENDAR
VERSION:2.0
PRODID:-//wp-events-plugin.com//7.2.3.1//EN
TZID:America/New_York
X-WR-TIMEZONE:America/New_York
BEGIN:VEVENT
UID:1267@pleasantpointeva.com
DTSTART;TZID=America/New_York:20290617T000000
DTEND;TZID=America/New_York:20290617T000000
DTSTAMP:20260315T182241Z
URL:https://pleasantpointeva.com/events/fathers-day-2026-06-21-2027-06-20-
 2028-06-18-2029-06-17/
SUMMARY:Father's Day
DESCRIPTION:Celebrate that special "Dad"
ATTACH;FMTTYPE=image/jpeg:https://pleasantpointeva.com/wp-content/uploads/
 2026/03/fathers-day.jpg
CATEGORIES:Father's Day,Holidays
END:VEVENT
BEGIN:VTIMEZONE
TZID:America/New_York
X-LIC-LOCATION:America/New_York
BEGIN:DAYLIGHT
DTSTART:20290311T030000
TZOFFSETFROM:-0500
TZOFFSETTO:-0400
TZNAME:EDT
END:DAYLIGHT
END:VTIMEZONE
END:VCALENDAR