BEGIN:VCALENDAR
VERSION:2.0
PRODID:-//wp-events-plugin.com//7.2.3.1//EN
TZID:America/New_York
X-WR-TIMEZONE:America/New_York
BEGIN:VEVENT
UID:1384@pleasantpointeva.com
DTSTART;TZID=America/New_York:20550418T000000
DTEND;TZID=America/New_York:20550418T000000
DTSTAMP:20260317T191829Z
URL:https://pleasantpointeva.com/events/easter-2-2026-04-05-2027-03-28-202
 8-04-16-2029-04-01-2030-04-21-2031-04-13-2032-03-28-2033-04-17-2034-04-09-
 2035-03-25-2036-04-13-2037-04-05-2038-04-25-2039-04-10-2040-04-01-2041-04-
 21-2-29-2055-04-18/
SUMMARY:Easter
DESCRIPTION:
ATTACH;FMTTYPE=image/jpeg:https://pleasantpointeva.com/wp-content/uploads/
 2026/03/easter.png
CATEGORIES:Easter,Holidays
END:VEVENT
BEGIN:VTIMEZONE
TZID:America/New_York
X-LIC-LOCATION:America/New_York
BEGIN:DAYLIGHT
DTSTART:20550314T030000
TZOFFSETFROM:-0500
TZOFFSETTO:-0400
TZNAME:EDT
END:DAYLIGHT
END:VTIMEZONE
END:VCALENDAR