BEGIN:VCALENDAR
VERSION:2.0
PRODID:-//wp-events-plugin.com//7.2.3.1//EN
TZID:America/New_York
X-WR-TIMEZONE:America/New_York
BEGIN:VEVENT
UID:1169@pleasantpointeva.com
DTSTART;TZID=America/New_York:20400908T120000
DTEND;TZID=America/New_York:20400908T160000
DTSTAMP:20260315T201457Z
URL:https://pleasantpointeva.com/events/annual-picnic-2040-09-08/
SUMMARY:Annual Picnic
DESCRIPTION:
ATTACH;FMTTYPE=image/jpeg:https://pleasantpointeva.com/wp-content/uploads/
 2026/01/20230909_124002-1-scaled.jpg
CATEGORIES:Annual Picnic
LOCATION:Pleasant Pointe\, Osprey Lane\, Heathsville\, Virginia\, 22473\, U
 nited States
X-APPLE-STRUCTURED-LOCATION;VALUE=URI;X-ADDRESS=Osprey Lane\, Heathsville\,
  Virginia\, 22473\, United States;X-APPLE-RADIUS=100;X-TITLE=Pleasant Poin
 te:geo:0,0
END:VEVENT
BEGIN:VTIMEZONE
TZID:America/New_York
X-LIC-LOCATION:America/New_York
BEGIN:DAYLIGHT
DTSTART:20400311T030000
TZOFFSETFROM:-0500
TZOFFSETTO:-0400
TZNAME:EDT
END:DAYLIGHT
END:VTIMEZONE
END:VCALENDAR