BEGIN:VCALENDAR
VERSION:2.0
PRODID:-//wp-events-plugin.com//7.2.3.1//EN
TZID:America/New_York
X-WR-TIMEZONE:America/New_York
BEGIN:VEVENT
UID:1087@pleasantpointeva.com
DTSTART;TZID=America/New_York:20260228T100000
DTEND;TZID=America/New_York:20260228T120000
DTSTAMP:20260128T142251Z
URL:https://pleasantpointeva.com/events/annual-meeting-feb-28-2026/
SUMMARY:Annual Meeting - Feb 28\, 2026
DESCRIPTION:
ATTACH;FMTTYPE=image/jpeg:https://pleasantpointeva.com/wp-content/uploads/
 2026/01/PP-sign-Summer2024-about.webp
CATEGORIES:Annual Meeting,Board Meeting
LOCATION:Pleasant Pointe\, Osprey Lane\, Heathsville\, Virginia\, 22473\, U
 nited States
X-APPLE-STRUCTURED-LOCATION;VALUE=URI;X-ADDRESS=Osprey Lane\, Heathsville\,
  Virginia\, 22473\, United States;X-APPLE-RADIUS=100;X-TITLE=Pleasant Poin
 te:geo:0,0
END:VEVENT
BEGIN:VTIMEZONE
TZID:America/New_York
X-LIC-LOCATION:America/New_York
BEGIN:STANDARD
DTSTART:20251102T010000
TZOFFSETFROM:-0400
TZOFFSETTO:-0500
TZNAME:EST
END:STANDARD
END:VTIMEZONE
END:VCALENDAR